Package: SRAdb Version: 1.71.0 Command: /home/biocbuild/bbs-3.22-bioc/R/bin/R CMD build --keep-empty-dirs --no-resave-data --md5 SRAdb StartedAt: 2025-10-24 20:28:54 -0400 (Fri, 24 Oct 2025) EndedAt: 2025-10-24 20:29:04 -0400 (Fri, 24 Oct 2025) EllapsedTime: 10.0 seconds RetCode: 0 Status: OK PackageFile: SRAdb_1.71.0.tar.gz PackageFileSize: 891.3 KiB