Package: SQLDataFrame Version: 1.23.0 Command: /home/biocbuild/R/R/bin/R CMD INSTALL SQLDataFrame StartedAt: 2025-10-23 20:35:11 -0000 (Thu, 23 Oct 2025) EndedAt: 2025-10-23 20:35:33 -0000 (Thu, 23 Oct 2025) EllapsedTime: 22.1 seconds RetCode: 0 Status: OK