Package: SQLDataFrame Version: 1.23.0 Command: /home/biocbuild/bbs-3.22-bioc/R/bin/R CMD check --install=check:SQLDataFrame.install-out.txt --library=/home/biocbuild/bbs-3.22-bioc/R/site-library --timings SQLDataFrame_1.23.0.tar.gz StartedAt: 2025-10-25 04:36:12 -0400 (Sat, 25 Oct 2025) EndedAt: 2025-10-25 04:38:53 -0400 (Sat, 25 Oct 2025) EllapsedTime: 161.1 seconds RetCode: 1 Status: ERROR CheckDir: SQLDataFrame.Rcheck Warnings: NA