Package: SQLDataFrame Version: 1.23.0 Command: /Library/Frameworks/R.framework/Resources/bin/R CMD check --install=check:SQLDataFrame.install-out.txt --library=/Library/Frameworks/R.framework/Resources/library --no-vignettes --timings SQLDataFrame_1.23.0.tar.gz StartedAt: 2025-10-25 00:36:18 -0400 (Sat, 25 Oct 2025) EndedAt: 2025-10-25 00:39:10 -0400 (Sat, 25 Oct 2025) EllapsedTime: 171.8 seconds RetCode: 1 Status: ERROR CheckDir: SQLDataFrame.Rcheck Warnings: NA