Package: SQLDataFrame Version: 1.23.0 Command: /Library/Frameworks/R.framework/Resources/bin/R CMD INSTALL SQLDataFrame StartedAt: 2025-10-24 15:10:56 -0400 (Fri, 24 Oct 2025) EndedAt: 2025-10-24 15:11:03 -0400 (Fri, 24 Oct 2025) EllapsedTime: 7.1 seconds RetCode: 0 Status: OK