Package: SQLDataFrame Version: 1.23.0 Command: /Library/Frameworks/R.framework/Resources/bin/R CMD build --keep-empty-dirs --no-resave-data SQLDataFrame StartedAt: 2025-10-24 17:53:21 -0400 (Fri, 24 Oct 2025) EndedAt: 2025-10-24 17:53:34 -0400 (Fri, 24 Oct 2025) EllapsedTime: 12.1 seconds RetCode: 0 Status: OK PackageFile: SQLDataFrame_1.23.0.tar.gz PackageFileSize: 234.9 KiB