Package: SPsimSeq Version: 1.19.0 Command: /home/biocbuild/R/R/bin/R CMD INSTALL SPsimSeq StartedAt: 2025-10-23 21:07:42 -0000 (Thu, 23 Oct 2025) EndedAt: 2025-10-23 21:08:28 -0000 (Thu, 23 Oct 2025) EllapsedTime: 46.6 seconds RetCode: 0 Status: OK