Package: SPsimSeq Version: 1.19.0 Command: /home/biocbuild/bbs-3.22-bioc/R/bin/R CMD check --install=check:SPsimSeq.install-out.txt --library=/home/biocbuild/bbs-3.22-bioc/R/site-library --timings SPsimSeq_1.19.0.tar.gz StartedAt: 2025-10-25 04:35:23 -0400 (Sat, 25 Oct 2025) EndedAt: 2025-10-25 04:44:53 -0400 (Sat, 25 Oct 2025) EllapsedTime: 570.5 seconds RetCode: 0 Status: OK CheckDir: SPsimSeq.Rcheck Warnings: 0