Package: SPsimSeq Version: 1.19.0 Command: /home/biocbuild/bbs-3.22-bioc/R/bin/R CMD build --keep-empty-dirs --no-resave-data --md5 SPsimSeq StartedAt: 2025-10-24 20:27:55 -0400 (Fri, 24 Oct 2025) EndedAt: 2025-10-24 20:31:46 -0400 (Fri, 24 Oct 2025) EllapsedTime: 231.2 seconds RetCode: 0 Status: OK PackageFile: SPsimSeq_1.19.0.tar.gz PackageFileSize: 768.6 KiB