Package: SPsimSeq Version: 1.19.0 Command: rm -rf SPsimSeq.buildbin-libdir && mkdir SPsimSeq.buildbin-libdir && /Users/biocbuild/BBS/utils/build-universal.sh SPsimSeq_1.19.0.tar.gz /Library/Frameworks/R.framework/Resources/bin/R SPsimSeq.buildbin-libdir StartedAt: 2025-10-25 02:06:49 -0400 (Sat, 25 Oct 2025) EndedAt: 2025-10-25 02:07:39 -0400 (Sat, 25 Oct 2025) EllapsedTime: 50.8 seconds RetCode: 0 Status: OK PackageFile: SPsimSeq_1.19.0.tgz PackageFileSize: 941.5 KiB