Package: SPsimSeq Version: 1.19.0 Command: /Library/Frameworks/R.framework/Resources/bin/R CMD INSTALL SPsimSeq StartedAt: 2025-10-24 15:27:59 -0400 (Fri, 24 Oct 2025) EndedAt: 2025-10-24 15:28:13 -0400 (Fri, 24 Oct 2025) EllapsedTime: 14.2 seconds RetCode: 0 Status: OK