Package: SPOTlight Version: 1.13.2 Command: /Library/Frameworks/R.framework/Resources/bin/R CMD INSTALL SPOTlight StartedAt: 2025-10-24 15:15:27 -0400 (Fri, 24 Oct 2025) EndedAt: 2025-10-24 15:15:42 -0400 (Fri, 24 Oct 2025) EllapsedTime: 14.6 seconds RetCode: 0 Status: OK