Package: SPOTlight Version: 1.13.2 Command: /Library/Frameworks/R.framework/Resources/bin/R CMD build --keep-empty-dirs --no-resave-data SPOTlight StartedAt: 2025-10-24 17:52:52 -0400 (Fri, 24 Oct 2025) EndedAt: 2025-10-24 17:53:51 -0400 (Fri, 24 Oct 2025) EllapsedTime: 58.7 seconds RetCode: 0 Status: OK PackageFile: SPOTlight_1.13.2.tar.gz PackageFileSize: 4.974 MiB