Package: SPOTlight Version: 1.13.2 Command: rm -rf SPOTlight.buildbin-libdir && mkdir SPOTlight.buildbin-libdir && /Users/biocbuild/BBS/utils/build-universal.sh SPOTlight_1.13.2.tar.gz /Library/Frameworks/R.framework/Resources/bin/R SPOTlight.buildbin-libdir StartedAt: 2025-10-24 23:21:22 -0400 (Fri, 24 Oct 2025) EndedAt: 2025-10-24 23:21:37 -0400 (Fri, 24 Oct 2025) EllapsedTime: 15.4 seconds RetCode: 0 Status: OK PackageFile: SPOTlight_1.13.2.tgz PackageFileSize: 4.706 MiB