Package: SPONGE Version: 1.31.0 Command: /home/biocbuild/bbs-3.22-bioc/R/bin/R CMD build --keep-empty-dirs --no-resave-data --md5 SPONGE StartedAt: 2025-10-24 20:26:45 -0400 (Fri, 24 Oct 2025) EndedAt: 2025-10-24 20:29:40 -0400 (Fri, 24 Oct 2025) EllapsedTime: 175.1 seconds RetCode: 0 Status: OK PackageFile: SPONGE_1.31.0.tar.gz PackageFileSize: 8.953 MiB