Package: SPLINTER Version: 1.36.0 Command: /home/biocbuild/bbs-3.22-bioc/R/bin/R CMD check --install=check:SPLINTER.install-out.txt --library=/home/biocbuild/bbs-3.22-bioc/R/site-library --timings SPLINTER_1.36.0.tar.gz StartedAt: 2025-11-21 05:05:06 -0500 (Fri, 21 Nov 2025) EndedAt: 2025-11-21 05:11:33 -0500 (Fri, 21 Nov 2025) EllapsedTime: 386.3 seconds RetCode: 0 Status: OK CheckDir: SPLINTER.Rcheck Warnings: 0