Package: SPLINTER Version: 1.36.0 Command: /Library/Frameworks/R.framework/Resources/bin/R CMD INSTALL SPLINTER StartedAt: 2025-11-02 15:49:48 -0500 (Sun, 02 Nov 2025) EndedAt: 2025-11-02 15:50:55 -0500 (Sun, 02 Nov 2025) EllapsedTime: 67.2 seconds RetCode: 0 Status: OK