Package: SPLINTER Version: 1.36.0 Command: /Library/Frameworks/R.framework/Resources/bin/R CMD build --keep-empty-dirs --no-resave-data SPLINTER StartedAt: 2025-11-03 18:56:46 -0500 (Mon, 03 Nov 2025) EndedAt: 2025-11-03 18:58:45 -0500 (Mon, 03 Nov 2025) EllapsedTime: 119.6 seconds RetCode: 0 Status: OK PackageFile: SPLINTER_1.36.0.tar.gz PackageFileSize: 961.1 KiB