Package: SPLINTER Version: 1.35.1 Command: /Library/Frameworks/R.framework/Resources/bin/R CMD INSTALL SPLINTER StartedAt: 2025-10-24 15:29:01 -0400 (Fri, 24 Oct 2025) EndedAt: 2025-10-24 15:29:21 -0400 (Fri, 24 Oct 2025) EllapsedTime: 20.0 seconds RetCode: 0 Status: OK