Package: SPLINTER Version: 1.36.0 Maintainer: Diana Low MaintainerEmail: lowdiana at gmail.com git_url: https://git.bioconductor.org/packages/SPLINTER git_branch: RELEASE_3_22 git_last_commit: 00c62ac git_last_commit_date: 2025-10-29 10:34:37 -0500 (Wed, 29 Oct 2025)