Package: SPICEY Version: 0.99.5 Command: /home/biocbuild/bbs-3.22-bioc/R/bin/R CMD INSTALL SPICEY StartedAt: 2025-10-24 15:52:17 -0400 (Fri, 24 Oct 2025) EndedAt: 2025-10-24 15:52:29 -0400 (Fri, 24 Oct 2025) EllapsedTime: 11.6 seconds RetCode: 0 Status: OK