Package: SPICEY Version: 0.99.5 Command: /home/biocbuild/bbs-3.22-bioc/R/bin/R CMD build --keep-empty-dirs --no-resave-data --md5 SPICEY StartedAt: 2025-10-24 20:24:42 -0400 (Fri, 24 Oct 2025) EndedAt: 2025-10-24 20:25:24 -0400 (Fri, 24 Oct 2025) EllapsedTime: 42.0 seconds RetCode: 0 Status: OK PackageFile: SPICEY_0.99.5.tar.gz PackageFileSize: 1002 KiB