Package: SPICEY Version: 1.0.0 Command: /Library/Frameworks/R.framework/Resources/bin/R CMD INSTALL SPICEY StartedAt: 2025-11-02 15:21:33 -0500 (Sun, 02 Nov 2025) EndedAt: 2025-11-02 15:21:38 -0500 (Sun, 02 Nov 2025) EllapsedTime: 5.3 seconds RetCode: 0 Status: OK