Package: SPICEY Version: 1.0.0 Command: rm -rf SPICEY.buildbin-libdir && mkdir SPICEY.buildbin-libdir && /Users/biocbuild/BBS/utils/build-universal.sh SPICEY_1.0.0.tar.gz /Library/Frameworks/R.framework/Resources/bin/R SPICEY.buildbin-libdir StartedAt: 2025-10-31 23:25:06 -0400 (Fri, 31 Oct 2025) EndedAt: 2025-10-31 23:25:11 -0400 (Fri, 31 Oct 2025) EllapsedTime: 5.1 seconds RetCode: 0 Status: OK PackageFile: SPICEY_1.0.0.tgz PackageFileSize: 1.036 MiB