Package: SPIAT Version: 1.11.1 Command: /home/biocbuild/bbs-3.22-bioc/R/bin/R CMD INSTALL SPIAT StartedAt: 2025-10-24 15:34:30 -0400 (Fri, 24 Oct 2025) EndedAt: 2025-10-24 15:34:59 -0400 (Fri, 24 Oct 2025) EllapsedTime: 28.9 seconds RetCode: 0 Status: OK