Package: SPIAT Version: 1.11.1 Command: rm -rf SPIAT.buildbin-libdir && mkdir SPIAT.buildbin-libdir && /Users/biocbuild/BBS/utils/build-universal.sh SPIAT_1.11.1.tar.gz /Library/Frameworks/R.framework/Resources/bin/R SPIAT.buildbin-libdir StartedAt: 2025-10-25 02:06:31 -0400 (Sat, 25 Oct 2025) EndedAt: 2025-10-25 02:07:15 -0400 (Sat, 25 Oct 2025) EllapsedTime: 44.1 seconds RetCode: 0 Status: OK PackageFile: SPIAT_1.11.1.tgz PackageFileSize: 6.995 MiB