Package: SPIAT Version: 1.11.1 Command: /Library/Frameworks/R.framework/Resources/bin/R CMD INSTALL SPIAT StartedAt: 2025-10-24 15:17:36 -0400 (Fri, 24 Oct 2025) EndedAt: 2025-10-24 15:17:48 -0400 (Fri, 24 Oct 2025) EllapsedTime: 11.5 seconds RetCode: 0 Status: OK