Package: SPIAT Version: 1.11.1 Command: /Library/Frameworks/R.framework/Resources/bin/R CMD build --keep-empty-dirs --no-resave-data SPIAT StartedAt: 2025-10-24 17:51:24 -0400 (Fri, 24 Oct 2025) EndedAt: 2025-10-24 17:52:28 -0400 (Fri, 24 Oct 2025) EllapsedTime: 63.7 seconds RetCode: 0 Status: OK PackageFile: SPIAT_1.11.1.tar.gz PackageFileSize: 7.205 MiB