Package: SPIAT Version: 1.11.1 Command: rm -rf SPIAT.buildbin-libdir && mkdir SPIAT.buildbin-libdir && /Users/biocbuild/BBS/utils/build-universal.sh SPIAT_1.11.1.tar.gz /Library/Frameworks/R.framework/Resources/bin/R SPIAT.buildbin-libdir StartedAt: 2025-10-24 23:21:12 -0400 (Fri, 24 Oct 2025) EndedAt: 2025-10-24 23:21:25 -0400 (Fri, 24 Oct 2025) EllapsedTime: 13.3 seconds RetCode: 0 Status: OK PackageFile: SPIAT_1.11.1.tgz PackageFileSize: 6.998 MiB