Package: SPIAT Version: 1.12.0 Maintainer: Yuzhou Feng MaintainerEmail: yuzhou0610 at gmail.com git_url: https://git.bioconductor.org/packages/SPIAT git_branch: RELEASE_3_22 git_last_commit: 60e740a git_last_commit_date: 2025-10-29 11:18:57 -0500 (Wed, 29 Oct 2025)