Package: SPIA Version: 2.61.0 Command: /home/biocbuild/bbs-3.22-bioc/R/bin/R CMD INSTALL SPIA StartedAt: 2025-10-28 15:14:34 -0400 (Tue, 28 Oct 2025) EndedAt: 2025-10-28 15:14:38 -0400 (Tue, 28 Oct 2025) EllapsedTime: 4.1 seconds RetCode: 0 Status: OK