Package: SPEM Version: 1.49.0 Command: /home/biocbuild/bbs-3.22-bioc/R/bin/R CMD INSTALL SPEM StartedAt: 2025-10-24 15:24:31 -0400 (Fri, 24 Oct 2025) EndedAt: 2025-10-24 15:24:35 -0400 (Fri, 24 Oct 2025) EllapsedTime: 3.8 seconds RetCode: 0 Status: OK