Package: SPEM Version: 1.49.0 Command: /home/biocbuild/bbs-3.22-bioc/R/bin/R CMD build --keep-empty-dirs --no-resave-data --md5 SPEM StartedAt: 2025-10-24 20:24:35 -0400 (Fri, 24 Oct 2025) EndedAt: 2025-10-24 20:24:44 -0400 (Fri, 24 Oct 2025) EllapsedTime: 9.0 seconds RetCode: 0 Status: OK PackageFile: SPEM_1.49.0.tar.gz PackageFileSize: 601.9 KiB