Package: SOMNiBUS Version: 1.17.0 Command: /home/biocbuild/bbs-3.22-bioc/R/bin/R CMD INSTALL SOMNiBUS StartedAt: 2025-10-27 15:44:53 -0400 (Mon, 27 Oct 2025) EndedAt: 2025-10-27 15:45:41 -0400 (Mon, 27 Oct 2025) EllapsedTime: 48.6 seconds RetCode: 0 Status: OK