Package: SNAGEE Version: 1.49.0 Command: /home/biocbuild/bbs-3.22-bioc/R/bin/R CMD build --keep-empty-dirs --no-resave-data --md5 SNAGEE StartedAt: 2025-10-24 20:18:26 -0400 (Fri, 24 Oct 2025) EndedAt: 2025-10-24 20:18:55 -0400 (Fri, 24 Oct 2025) EllapsedTime: 29.0 seconds RetCode: 0 Status: OK PackageFile: SNAGEE_1.49.0.tar.gz PackageFileSize: 169.9 KiB