Package: SMITE Version: 1.38.0 Command: /home/biocbuild/bbs-3.22-bioc/R/bin/R CMD INSTALL SMITE StartedAt: 2025-11-17 18:02:38 -0500 (Mon, 17 Nov 2025) EndedAt: 2025-11-17 18:03:28 -0500 (Mon, 17 Nov 2025) EllapsedTime: 49.7 seconds RetCode: 0 Status: OK