Package: SMITE Version: 1.38.0 Command: /home/biocbuild/bbs-3.22-bioc/R/bin/R CMD build --keep-empty-dirs --no-resave-data --md5 SMITE StartedAt: 2025-11-17 23:35:37 -0500 (Mon, 17 Nov 2025) EndedAt: 2025-11-17 23:36:49 -0500 (Mon, 17 Nov 2025) EllapsedTime: 72.1 seconds RetCode: 0 Status: OK PackageFile: SMITE_1.38.0.tar.gz PackageFileSize: 3.089 MiB