Package: SMAD Version: 1.25.0 Command: /home/biocbuild/bbs-3.22-bioc/R/bin/R CMD build --keep-empty-dirs --no-resave-data --md5 SMAD StartedAt: 2025-10-24 20:18:07 -0400 (Fri, 24 Oct 2025) EndedAt: 2025-10-24 20:18:26 -0400 (Fri, 24 Oct 2025) EllapsedTime: 19.0 seconds RetCode: 0 Status: OK PackageFile: SMAD_1.25.0.tar.gz PackageFileSize: 439.1 KiB