Package: SLqPCR Version: 1.76.0 Command: /home/biocbuild/bbs-3.22-bioc/R/bin/R CMD check --install=check:SLqPCR.install-out.txt --library=/home/biocbuild/bbs-3.22-bioc/R/site-library --timings SLqPCR_1.76.0.tar.gz StartedAt: 2025-11-01 04:21:46 -0400 (Sat, 01 Nov 2025) EndedAt: 2025-11-01 04:22:03 -0400 (Sat, 01 Nov 2025) EllapsedTime: 17.0 seconds RetCode: 0 Status: OK CheckDir: SLqPCR.Rcheck Warnings: 0