Package: SLqPCR Version: 1.75.0 Command: /Library/Frameworks/R.framework/Resources/bin/R CMD INSTALL SLqPCR StartedAt: 2025-10-27 15:03:40 -0400 (Mon, 27 Oct 2025) EndedAt: 2025-10-27 15:04:23 -0400 (Mon, 27 Oct 2025) EllapsedTime: 42.3 seconds RetCode: 0 Status: OK