Package: SLqPCR Version: 1.75.0 Command: /Library/Frameworks/R.framework/Resources/bin/R CMD build --keep-empty-dirs --no-resave-data SLqPCR StartedAt: 2025-10-26 18:02:48 -0400 (Sun, 26 Oct 2025) EndedAt: 2025-10-26 18:02:51 -0400 (Sun, 26 Oct 2025) EllapsedTime: 3.0 seconds RetCode: 0 Status: OK PackageFile: SLqPCR_1.75.0.tar.gz PackageFileSize: 220.8 KiB