Package: SLqPCR Version: 1.75.0 Command: rm -rf SLqPCR.buildbin-libdir && mkdir SLqPCR.buildbin-libdir && /Users/biocbuild/BBS/utils/build-universal.sh SLqPCR_1.75.0.tar.gz /Library/Frameworks/R.framework/Resources/bin/R SLqPCR.buildbin-libdir StartedAt: 2025-10-26 22:48:45 -0400 (Sun, 26 Oct 2025) EndedAt: 2025-10-26 22:48:46 -0400 (Sun, 26 Oct 2025) EllapsedTime: 1.0 seconds RetCode: 0 Status: OK PackageFile: SLqPCR_1.75.0.tgz PackageFileSize: 237 KiB