Package: SIMLR Version: 1.35.1 Command: /Library/Frameworks/R.framework/Resources/bin/R CMD INSTALL SIMLR StartedAt: 2025-10-24 15:05:36 -0400 (Fri, 24 Oct 2025) EndedAt: 2025-10-24 15:05:45 -0400 (Fri, 24 Oct 2025) EllapsedTime: 8.9 seconds RetCode: 0 Status: OK