Package: SIMLR Version: 1.35.1 Command: /Library/Frameworks/R.framework/Resources/bin/R CMD build --keep-empty-dirs --no-resave-data SIMLR StartedAt: 2025-10-24 17:46:10 -0400 (Fri, 24 Oct 2025) EndedAt: 2025-10-24 17:47:01 -0400 (Fri, 24 Oct 2025) EllapsedTime: 51.6 seconds RetCode: 0 Status: OK PackageFile: SIMLR_1.35.1.tar.gz PackageFileSize: 4.096 MiB