Package: SIMLR Version: 1.35.1 Command: rm -rf SIMLR.buildbin-libdir && mkdir SIMLR.buildbin-libdir && /Users/biocbuild/BBS/utils/build-universal.sh SIMLR_1.35.1.tar.gz /Library/Frameworks/R.framework/Resources/bin/R SIMLR.buildbin-libdir StartedAt: 2025-10-24 23:20:10 -0400 (Fri, 24 Oct 2025) EndedAt: 2025-10-24 23:20:19 -0400 (Fri, 24 Oct 2025) EllapsedTime: 8.2 seconds RetCode: 0 Status: OK PackageFile: SIMLR_1.35.1.tgz PackageFileSize: 4.222 MiB