Package: SIMLR Version: 1.35.1 Maintainer: Luca De Sano MaintainerEmail: luca.desano at gmail.com git_url: https://git.bioconductor.org/packages/SIMLR git_branch: devel git_last_commit: d51d195 git_last_commit_date: 2025-10-03 12:54:57 -0400 (Fri, 03 Oct 2025)