Package: SIMD Version: 1.28.0 Command: /Library/Frameworks/R.framework/Resources/bin/R CMD INSTALL SIMD StartedAt: 2025-11-03 15:11:22 -0500 (Mon, 03 Nov 2025) EndedAt: 2025-11-03 15:12:01 -0500 (Mon, 03 Nov 2025) EllapsedTime: 39.5 seconds RetCode: 0 Status: OK