Package: SIMD Version: 1.28.0 Command: /Library/Frameworks/R.framework/Resources/bin/R CMD build --keep-empty-dirs --no-resave-data SIMD StartedAt: 2025-11-02 18:50:58 -0500 (Sun, 02 Nov 2025) EndedAt: 2025-11-02 18:51:10 -0500 (Sun, 02 Nov 2025) EllapsedTime: 12.6 seconds RetCode: 0 Status: OK PackageFile: SIMD_1.28.0.tar.gz PackageFileSize: 332.8 KiB