Package: SIMD Version: 1.28.0 Command: rm -rf SIMD.buildbin-libdir && mkdir SIMD.buildbin-libdir && /Users/biocbuild/BBS/utils/build-universal.sh SIMD_1.28.0.tar.gz /Library/Frameworks/R.framework/Resources/bin/R SIMD.buildbin-libdir StartedAt: 2025-11-01 01:58:28 -0400 (Sat, 01 Nov 2025) EndedAt: 2025-11-01 01:58:41 -0400 (Sat, 01 Nov 2025) EllapsedTime: 12.9 seconds RetCode: 0 Status: OK PackageFile: SIMD_1.28.0.tgz PackageFileSize: 357.6 KiB