Package: SIMD Version: 1.27.0 Command: /Library/Frameworks/R.framework/Resources/bin/R CMD INSTALL SIMD StartedAt: 2025-10-24 15:04:41 -0400 (Fri, 24 Oct 2025) EndedAt: 2025-10-24 15:04:52 -0400 (Fri, 24 Oct 2025) EllapsedTime: 10.9 seconds RetCode: 0 Status: OK